dset ^p2_%y2.cldtse.grd
options template
undef -9.99E+33
title CLAVR/PATMOS Cloud Amount format yrev
XDEF 144 LINEAR 1.25 2.50
YDEF 72 LINEAR -88.75 2.50
zdef 1 levels 1 1
tdef 48 linear JAN1985 1mo
vars 1
cldtse 1 212,8,0 CLAVR CLD fraction (%)
endvars * title:cldtse: CLAVR/PATMOS Cloud Amount $_month $_year
