DSET ^sfc_swd.%y2.grd
UNDEF -999.9
TITLE LaRC Surface Radiation All-Sky downward shortwave Flux
* --- DEFINE DIMENSIONS ---
*
XDEF 144 LINEAR 1.25 2.50
YDEF 72 LINEAR -88.75 2.50
ZDEF 01 LEVELS 1 1
TDEF 72 LINEAR Jan1985 01MO
options yrev template
* --- DEFINE VARIABLES ---
*
VARS 1
swd 1 99 sfc dnsw FLUX
ENDVARS * title:swd: LaRc SFC Radiation All-Sky DN SW $_month $_year
