DSET ^sfc_lwd.%y2.grd
UNDEF -999.9
TITLE LaRC Surface Radiation ALL-Sky downward Longwave Flux
* --- DEFINE DIMENSIONS ---
*
XDEF 144 LINEAR 1.25 2.50
YDEF 72 LINEAR -88.75 2.50
ZDEF 01 LEVELS 1 1
TDEF 72 LINEAR Jan1985 01MO
options yrev template
* --- DEFINE VARIABLES ---
*
VARS 1
lwd 1 99 sfc lwdown FLUX
ENDVARS * title:lwd: LaRc SFC Radiation All-Sky DN LW $_month $_year
