DSET ^sfc_csswd.%y2.grd
UNDEF -999.9
TITLE LaRC Surface Radiation Clear-Sky downward Shortwave Flux
* --- DEFINE DIMENSIONS ---
*
XDEF 144 LINEAR 1.25 2.50
YDEF 72 LINEAR -88.75 2.50
ZDEF 01 LEVELS 1 1
TDEF 72 LINEAR Jan1985 01MO
options yrev template
* --- DEFINE VARIABLES ---
*
VARS 1
csswd 1 99 sfc csdnsw FLUX
ENDVARS * title:csswd: LaRc SFC Radiation Clear-Sky DN SW $_month $_year
