DSET ^tc_low.%y2.grads
options yrev template
UNDEF -1000.
TITLE ISCCP Monthly Low Cloud Top Temperature
* --- DEFINE DIMENSIONS ---
*
XDEF 144 LINEAR 1.25 2.50
YDEF 72 LINEAR -88.75 2.50
ZDEF 01 LEVELS 1 1
TDEF 108 LINEAR Jan1985 01MO
* --- DEFINE VARIABLES ---
*
VARS 1
tclow 1 99 Temp Low Cld-top
ENDVARS * title:tclow: ISCCP Low Cloud Top Temperature $_month $_year
