DSET ^pres_sfc_%y2%m2.grads
options yrev template
UNDEF -9999.9
Title ISCCP Monthly Surface Pressure from TOVS
* --- DEFINE DIMENSIONS ---
*
XDEF 144 LINEAR 1.25 2.50
YDEF 72 LINEAR -88.75 2.50
ZDEF 01 LEVELS 1 1
TDEF 108 LINEAR Jan1985 01MO
* --- DEFINE VARIABLES ---
*
VARS 1
presfc 1 99 SFC-Pressure
ENDVARS * title:presfc: ISCCP Surface Pressure $_month $_year
