DSET ^lnd_ocn.85.grads
options yrev template
UNDEF -1000.
TITLE ISCCP Land/OCEAN Mask
* --- DEFINE DIMENSIONS ---
*
XDEF 144 LINEAR 1.25 2.50
YDEF 72 LINEAR -88.75 2.50
ZDEF 01 LEVELS 1 1
TDEF 108 LINEAR Jan1985 01MO
* --- DEFINE VARIABLES ---
*
VARS 1
lnoc 1 99 Land/Ocean mask
ENDVARS * title:lnoc: ISCCP Land/Ocean Mask $_month $_year
