DSET ^cldh.%y2.grads
options yrev template
UNDEF -1000.
TITLE ISCCP Monthly Hi Cld Amount
* --- DEFINE DIMENSIONS ---
*
XDEF 144 LINEAR 1.25 2.50
YDEF 72 LINEAR -88.75 2.50
ZDEF 01 LEVELS 1 1
TDEF 108 LINEAR Jan1985 01MO
* --- DEFINE VARIABLES ---
*
VARS 1
cldh 1 99 hi-cld amount
ENDVARS * title:cldh: ISCCP Hi Cloud Amount $_month $_year
