DSET ^ERBE_olrcs.grads
UNDEF -0.99990E+03
TITLE ERBE TOA Clear Sky Upward Longwave Flux
* --- DEFINE DIMENSIONS ---
*
XDEF 144 LINEAR 1.25 2.50
YDEF 72 LINEAR -88.75 2.50
ZDEF 01 LEVELS 1 1
TDEF 62 LINEAR JAN1985 01MO
options yrev template
* --- DEFINE VARIABLES ---
*
VARS 1
MLWcs 1 99 TOA CSULWRF
ENDVARS * title:MLWcs: ERBE TOA Clear-Sky OLR $_month $_year
