DSET /Output of Readsnow.f file/
UNDEF 999.9
*
XDEF 180 LINEAR 0.0 2.0
*
YDEF 45 LINEAR 0.0 2.0
*
ZDEF 1 LEVELS 1000
TDEF 1 LINEAR 05JAN1995 7dy
*
VARS 1
snow 1 99 Plot time series
ENDVARS
