dset /cpc/home/wd52vk/samer/satellite/irwin-SA-y2005
title GriSat-B1 - Gridded Satellite (GriSat) ISCCP B1 Observations
undef -9.99e8 missing_value
xdef 1000 linear -90.05 0.07
ydef 1000 linear -55.02 0.07
zdef 1 linear 0 1
tdef 2920 linear 00Z1jan2005 3hr
vars 1
irwin 0 99 brightness temperature
endvars
