dset /cpc/home/wd52vk/samer/satellite/irwin-SA-daily-ave-1.75x1.75deg-boxes-y1993
title GriSat-B1 - Gridded Satellite (GriSat) ISCCP B1 Observations
undef -999. missing_value
xdef 40 linear -89.21 1.75
ydef 40 linear -54.18 1.75
zdef 1 linear 0 1
tdef 365 linear 00Z1jan1993 1dy
vars 1
irwin 0 99 brightness temperature
endvars
