dset /cpc/home/wd52vk/samer/satellite/irwin-SA-ave-1.75x1.75deg-boxes-y1990
title GriSat-B1 - Gridded Satellite (GriSat) ISCCP B1 Observations
undef -999. missing_value
xdef 40 linear -89.21 1.75
ydef 40 linear -54.18 1.75
zdef 1 linear 0 1
tdef 2920 linear 00Z1jan1990 3hr
vars 1
irwin 0 99 brightness temperature
endvars
