dset ^num-events-thresholds-jas1996-2010
undef -9.99e+08
options little_endian
title daily precip jas1996-2010
xdef 157 linear 277.5 0.3125
ydef 226 levels -56.045 -55.733 -55.421 -55.108 -54.796 -54.484 -54.172 -53.859 -53.547 -53.235 -52.923 -52.611 -52.298 -51.986 -51.674 -51.362 -51.049 -50.737 -50.425 -50.113 -49.800 -49.488 -49.176 -48.864 -48.552 -48.239 -47.927 -47.615 -47.303 -46.990 -46.678 -46.366 -46.054 -45.742 -45.429 -45.117 -44.805 -44.493 -44.180 -43.868 -43.556 -43.244 -42.931 -42.619 -42.307 -41.995 -41.683 -41.370 -41.058 -40.746 -40.434 -40.121 -39.809 -39.497 -39.185 -38.872 -38.560 -38.248 -37.936 -37.624 -37.311 -36.999 -36.687 -36.375 -36.062 -35.750 -35.438 -35.126 -34.814 -34.501 -34.189 -33.877 -33.565 -33.252 -32.940 -32.628 -32.316 -32.003 -31.691 -31.379 -31.067 -30.755 -30.442 -30.130 -29.818 -29.506 -29.193 -28.881 -28.569 -28.257 -27.944 -27.632 -27.320 -27.008 -26.696 -26.383 -26.071 -25.759 -25.447 -25.134 -24.822 -24.510 -24.198 -23.886 -23.573 -23.261 -22.949 -22.637 -22.324 -22.012 -21.700 -21.388 -21.075 -20.763 -20.451 -20.139 -19.827 -19.514 -19.202 -18.890 -18.578 -18.265 -17.953 -17.641 -17.329 -17.016 -16.704 -16.392 -16.080 -15.768 -15.455 -15.143 -14.831 -14.519 -14.206 -13.894 -13.582 -13.270 -12.957 -12.645 -12.333 -12.021 -11.709 -11.396 -11.084 -10.772 -10.460 -10.147 -9.835 -9.523 -9.211 -8.899 -8.586 -8.274 -7.962 -7.650 -7.337 -7.025 -6.713 -6.401 -6.088 -5.776 -5.464 -5.152 -4.840 -4.527 -4.215 -3.903 -3.591 -3.278 -2.966 -2.654 -2.342 -2.029 -1.717 -1.405 -1.093 -0.781 -0.468 -0.156 0.156 0.468 0.781 1.093 1.405 1.717 2.029 2.342 2.654 2.966 3.278 3.591 3.903 4.215 4.527 4.840 5.152 5.464 5.776 6.088 6.401 6.713 7.025 7.337 7.650 7.962 8.274 8.586 8.899 9.211 9.523 9.835 10.147 10.460 10.772 11.084 11.396 11.709 12.021 12.333 12.645 12.957 13.270 13.582 13.894 14.206
*
tdef 150 linear 1jan1950 1dy
zdef 1 linear 1 1
vars 1
cnt 1 0 number of events for thresholds 1-150 mm
ENDVARS
