dset ^ghcn_cams_1948_cur_t126.grb
index ^ghcn_cams_1948_cur_t126.grb.idx
undef 9.999E+20
title ghcn_cams_1948_cur_t126.grb
* produced by g2ctl v0.0.8.4
* command line options: ghcn_cams_1948_cur_t126.grb
* griddef=1:0:(384 x 190):grid_template=40:winds(N/S): Gaussian grid: (384 x 190) units 1e-06 input WE:NS output WE:SN number of latitudes between pole-equator=95 #points=72960 lat 89.276713 to -89.276713 lon 0.000000 to 359.062500 by 0.937500:winds(
dtype grib2
xdef 384 linear 0.000000 0.9375
ydef 190 levels -89.277 -88.340 -87.397 -86.454 -85.509 -84.565 -83.620 -82.676 -81.731 -80.786 -79.841 -78.897 -77.952 -77.007 -76.062 -75.117 -74.173 -73.228 -72.283 -71.338 -70.393 -69.448 -68.503 -67.559 -66.614 -65.669 -64.724 -63.779 -62.834 -61.889 -60.945 -60.000 -59.055 -58.110 -57.165 -56.220 -55.275 -54.330 -53.386 -52.441 -51.496 -50.551 -49.606 -48.661 -47.716 -46.771 -45.827 -44.882 -43.937 -42.992 -42.047 -41.102 -40.157 -39.212 -38.268 -37.323 -36.378 -35.433 -34.488 -33.543 -32.598 -31.653 -30.709 -29.764 -28.819 -27.874 -26.929 -25.984 -25.039 -24.094 -23.150 -22.205 -21.260 -20.315 -19.370 -18.425 -17.480 -16.535 -15.590 -14.646 -13.701 -12.756 -11.811 -10.866 -9.921 -8.976 -8.031 -7.087 -6.142 -5.197 -4.252 -3.307 -2.362 -1.417 -0.472 0.472 1.417 2.362 3.307 4.252 5.197 6.142 7.087 8.031 8.976 9.921 10.866 11.811 12.756 13.701 14.646 15.590 16.535 17.480 18.425 19.370 20.315 21.260 22.205 23.150 24.094 25.039 25.984 26.929 27.874 28.819 29.764 30.709 31.653 32.598 33.543 34.488 35.433 36.378 37.323 38.268 39.212 40.157 41.102 42.047 42.992 43.937 44.882 45.827 46.771 47.716 48.661 49.606 50.551 51.496 52.441 53.386 54.330 55.275 56.220 57.165 58.110 59.055 60.000 60.945 61.889 62.834 63.779 64.724 65.669 66.614 67.559 68.503 69.448 70.393 71.338 72.283 73.228 74.173 75.117 76.062 77.007 77.952 78.897 79.841 80.786 81.731 82.676 83.620 84.565 85.509 86.454 87.397 88.340 89.277
tdef 911 linear 00Z01jan1948 1mo
zdef 1 linear 1 1
vars 1
TMPsfc 0,1 0,0,0 ** surface Temperature [C]
ENDVARS
