dset ^ghcn_cams_1948_cur.grb
index ^ghcn_cams_1948_cur.grb.idx
undef 9.999E+20
title ghcn_cams_1948_cur.grb
* produced by g2ctl v0.0.8.4
* command line options: ghcn_cams_1948_cur.grb
* griddef=1:0:(720 x 360):grid_template=0:winds(N/S): lat-lon grid:(720 x 360) units 1e-06 input WE:SN output WE:SN res 48 lat -89.750000 to 89.750000 by 0.500000 lon 0.250000 to 359.750000 by 0.500000 #points=259200:winds(N/S)
dtype grib2
ydef 360 linear -89.750000 0.5
xdef 720 linear 0.250000 0.500000
tdef 908 linear 00Z01jan1948 1mo
zdef 1 linear 1 1
vars 1
TMPsfc 0,1 0,0,0 ** surface Temperature [C]
ENDVARS
