dset ^ghcn_cams_1979_2006.clim.grb
index ^ghcn_cams_1979_2006.clim.grb.idx
undef 9.999E+20
title ghcn_cams_1979_2006.clim.grb
* produced by grib2ctl v0.9.12.5p39a
dtype grib 255
options yrev
ydef 360 linear -89.750000 0.5
xdef 720 linear 0.250000 0.500000
tdef 12 linear jan1979 1mo
zdef 1 linear 1 1
vars 1
TMP2m 0 11,105,2 ** 2 m above ground Temp. [K]
ENDVARS
