dset ^sfg_1982020100_fhr06_mem012
undef 9.99E+20
options big_endian sequential yrev
fileheader 1085188
title gfs nemsioi sfc file
xdef 512 linear 0.000000 0.703125
ydef 256 levels -89.462947 -88.766944 -88.066993 -87.366038 -86.664803 -85.963370 -85.261861 -84.560258 -83.858633 -83.156989 -82.455323 -81.753637 -81.051938 -80.350232 -79.648519 -78.946799 -78.245092 -77.543366 -76.841632 -76.139912 -75.438172 -74.736445 -74.034698 -73.332964 -72.631224 -71.929483 -71.227750 -70.526002 -69.824262 -69.122521 -68.420774 -67.719027 -67.017287 -66.315539 -65.613792 -64.912052 -64.210298 -63.508543 -62.806796 -62.105056 -61.403308 -60.701554 -59.999807 -59.298060 -58.596313 -57.894559 -57.192808 -56.491061 -55.789310 -55.087559 -54.385809 -53.684061 -52.982311 -52.280557 -51.578806 -50.877059 -50.175305 -49.473554 -48.771803 -48.070053 -47.368302 -46.666551 -45.964797 -45.263046 -44.561292 -43.859545 -43.157791 -42.456037 -41.754286 -41.052536 -40.350781 -39.649031 -38.947280 -38.245529 -37.543775 -36.842025 -36.140271 -35.438517 -34.736766 -34.035012 -33.333258 -32.631507 -31.929753 -31.228002 -30.526252 -29.824497 -29.122747 -28.420993 -27.719240 -27.017486 -26.315734 -25.613980 -24.912229 -24.210475 -23.508723 -22.806970 -22.105218 -21.403466 -20.701711 -19.999959 -19.298207 -18.596454 -17.894700 -17.192948 -16.491195 -15.789443 -15.087689 -14.385937 -13.684183 -12.982430 -12.280678 -11.578925 -10.877171 -10.175419 -9.473666 -8.771912 -8.070159 -7.368407 -6.666654 -5.964901 -5.263148 -4.561395 -3.859642 -3.157888 -2.456135 -1.754383 -1.052630 -0.350877 0.350877 1.052630 1.754383 2.456135 3.157888 3.859642 4.561395 5.263148 5.964901 6.666654 7.368407 8.070159 8.771912 9.473666 10.175419 10.877171 11.578925 12.280678 12.982430 13.684183 14.385937 15.087689 15.789443 16.491195 17.192948 17.894700 18.596454 19.298207 19.999959 20.701711 21.403466 22.105218 22.806970 23.508723 24.210475 24.912229 25.613980 26.315734 27.017486 27.719240 28.420993 29.122747 29.824497 30.526252 31.228002 31.929753 32.631507 33.333258 34.035012 34.736766 35.438517 36.140271 36.842025 37.543775 38.245529 38.947280 39.649031 40.350781 41.052536 41.754286 42.456037 43.157791 43.859545 44.561292 45.263046 45.964797 46.666551 47.368302 48.070053 48.771803 49.473554 50.175305 50.877059 51.578806 52.280557 52.982311 53.684061 54.385809 55.087559 55.789310 56.491061 57.192808 57.894559 58.596313 59.298060 59.999807 60.701554 61.403308 62.105056 62.806796 63.508543 64.210298 64.912052 65.613792 66.315539 67.017287 67.719027 68.420774 69.122521 69.824262 70.526002 71.227750 71.929483 72.631224 73.332964 74.034698 74.736445 75.438172 76.139912 76.841632 77.543366 78.245092 78.946799 79.648519 80.350232 81.051938 81.753637 82.455323 83.156989 83.858633 84.560258 85.261861 85.963370 86.664803 87.366038 88.066993 88.766944 89.462947
zdef 1 linear 1 1
tdef 1 linear 12Z31Jan1982 12hr
VARS 17
ugrdmidlayer 64 99 model layer
vgrdmidlayer 64 99 model layer
dzdtmidlayer 64 99 model layer
presmidlayer 64 99 model layer
delzmidlayer 64 99 model layer
tmpmidlayer 64 99 model layer
dpresmidlayer 64 99 model layer
spfhmidlayer 64 99 model layer
clwmrmidlayer 64 99 model layer
rwmrmidlayer 64 99 model layer
icmrmidlayer 64 99 model layer
snmrmidlayer 64 99 model layer
grlemidlayer 64 99 model layer
o3mrmidlayer 64 99 model layer
cld_amtmidlayer 64 99 model layer
pressfc 0 99 sfc
hgtsfc 0 99 sfc
endvars
