dset ^r2-clim.glacier
index ^r2-clim.glacier.idx
undef 9.999E+20
title r2-clim.glacier
* produced by grib2ctl v0.9.12.5p32u
dtype grib 255
options yrev
ydef 91 linear -90.000000 2
xdef 180 linear 0.000000 2.000000
tdef 1 linear 00Z01jan1900 1mo
zdef 1 linear 1 1
vars 1
SNOWCsfc 0 238,1, 0 ** surface Snow cover [%]
ENDVARS
