dset ^NMME.prate.mon.aug_ic.1982-2019.ld1-5.esm.gr
undef -9.99e+8
*
TITLE fcst
*
xdef 360 linear 0. 1.
ydef 181 linear -90 1.
zdef 1 linear 1 1
tdef 999 linear feb1982 1mo
vars 1
f 1 99 lead1-5
ENDVARS
