DSET ^reeof.strm200.79pres.pentad.djf.rot9_eof.dat
UNDEF -9.99e+08
TITLE SST EOF 1--9
*OPTIONS 365_day_calendar
XDEF 144 LINEAR 0.00 2.50
YDEF 37 LINEAR 0.00 2.50
ZDEF 9 LINEAR 1.00 1.00
TDEF 5 LINEAR JAN1979 15dy
VARS 1
eof 9 99 Each (fictitious) level corresponds to one EOF.
ENDVARS
