DSET ^eof.sst.monthly.nao.sondjf.detrendeof.dat
UNDEF -9.99e+08
TITLE SST EOF 1--3
*OPTIONS 365_day_calendar
XDEF 180 LINEAR 0.00 2.00
YDEF 55 LINEAR -20.00 2.00
ZDEF 3 LINEAR 1.00 1.00
TDEF 1 LINEAR JAN1979 11mo
VARS 1
eof 3 99 Each (fictitious) level corresponds to one EOF.
ENDVARS
