DSET ^reof.z200.monthly.nh_tele.djf.79pres.eddyrot8_eof.dat
UNDEF -9.99e+08
TITLE SST EOF 1--8
OPTIONS 365_day_calendar
XDEF 144 LINEAR 0.00 2.50
YDEF 49 LINEAR -30.00 2.50
ZDEF 8 LINEAR 1.00 1.00
TDEF 1 LINEAR JAN1979 1mo
VARS 1
eof 8 99 Each (fictitious) level corresponds to one EOF.
ENDVARS
