DSET ^gts_dly_mint_05.lnx.20020302
*
UNDEF -999.0
*
options little_endian
*
TITLE analysis at grid box centering at the lat/lon below
*
XDEF 720 LINEAR 0.25 0.5
*
YDEF 360 LINEAR -89.5 0.5
*
ZDEF 02 LEVELS 1 2
*
TDEF 365 LINEAR 01JAN2002 1dy
*
VARS 2
anal 1 99 ch01 analysis (0.1 deg C)
nobs 1 99 ch02 number of gauges
ENDVARS
