DSET ^../%y4/CPC_GOB_V0.x_DLY_0.25deg.lnx.%y4%m2%d2
*
UNDEF -999.0
*
OPTIONS little_endian template
*
TITLE CPC Gauge - OLR Blended Daily Precip Analysis (Test Version V0.x)
*
XDEF 1440 LINEAR 0.125 0.25
*
YDEF 720 LINEAR -89.875 0.25
*
ZDEF 1 LEVELS 1
*
TDEF 99999 LINEAR 01JAN1979 1dy
*
VARS 1
brain 1 00 blended daily precip (mm/day)
ENDVARS
