DSET ^noaa15.%y4%m2%d2
*
TITLE Daily OLR (Noaa 15
@ 1x1 lat/lon resolution )
*
*
options big_endian yrev template
*
UNDEF -9999.0
*
XDEF 360 LINEAR 0.5 1.0
*
YDEF 180 LINEAR -89.5 1.0
*
ZDEF 01 LEVELS 1
*
TDEF 9000 LINEAR 01jan1998 1dy
*
VARS 2
olrn 1 99 "nite" pass
olrd 1 99 "day" pass
ENDVARS
