DSET ^gpi_mth_2.5_mmday_198601-yyyymm
UNDEF -9999.0
TITLE Monthly GPI (2.5 x 2.5 deg lat/lon)
*
* format yrev big_endian
*
XDEF 144 LINEAR 1.25 2.5
*
YDEF 32 LINEAR -38.75 2.5
*
ZDEF 01 LEVELS 1
TDEF 900 LINEAR Jan1986 1mo
*
*
VARS 1
gpi 1 0 mm/day
ENDVARS
