DSET ^merg_%y4%m2%d2%h2_4km-pixel
TITLE Globally Merged IR Brightness Temperature
OPTIONS yrev little_endian template
UNDEF 255
XDEF 9896 LINEAR 0.0181891675 0.0363783345
YDEF 3298 LINEAR -59.98181083 0.0363856885
ZDEF 1 LEVELS 1
TDEF 99999 LINEAR 00z01Jan2015 30mn
VARS 1
bt 1 -1,40,1,-1 Merged IR BT minus 75 (K)
ENDVARS *********************************************** * * NOTE: * 1. Data is in '1-byte unsigned char' format. * '-1,40,1,-1' in variable record handles * CHARACTER*1 format in our systems. This * may be system dependent. * 2. Data is scaled by subtracting 75 from the * real temperature value. 255 is the missing * value (or 330 after value has been * unscaled). * ***********************************************
