DSET ^%y4%m2%d2%h2
OPTIONS big_endian template
UNDEF 255
TITLE CMORPH
XDEF 757 LINEAR 280.004 0.072756669
YDEF 551 LINEAR -40.0243 0.072771377
ZDEF 01 LEVELS 1
TDEF 99999 LINEAR 00z1dec2002 1hr
VARS 1
cmorph 1 0 CMORPH (mm/day)
ENDVARS
