dset ^lanina.ndj.temp.dat
options little_endian
undef -999.0
title composites
xdef 71 linear 230 1
ydef 36 linear 20 1
zdef 1 levels 1 1
tdef 1 linear jul1950 1yr
vars 6
tmp 0 0 mean seasonal T
tmpct 0 0 count
tocn 0 0 OCN
tocnct 0 0 OCN count
tcomb 0 0 comp plus ocn
tcombct 0 0 comp plus ocn count
endvars
