dset ^msat.981020.s0000e0230.grib
dtype grib
options template yrev
index ^m7.index
undef -1
title Met-7 GPI
xdef 200 linear -49.750 0.500
ydef 200 linear -49.750 0.500
zdef 1 levels 0
tdef 6 linear 00:00Z20OCT1998 30mn
vars 5
gpi 1 218,1,0 Precip Index (mm/30 minutes)
std 1 219,1,0 Std Dev of T over box
tmp 1 11,1,0 Temperature (K)
maxt 1 15,1,0 Max Temperature (K)
mint 1 16,1,0 Min Temperature (K)
endvars
