dset g0.981020.s1800e2030.grib
dtype grib
options template yrev big_endian
index g10.index
undef -1
title GPI without G
xdef 200 linear 175.250 0.500
ydef 200 linear -49.750 0.500
zdef 1 levels 0
tdef 6 linear 18:00Z20oct1998 30mn
vars 5
gpi 1 218,1,0 Precip Index (mm/30 monutes)
std 1 219,1,0 Std Dev of T over box
tmp 1 11,1,0 Temperature (K)
maxt 1 15,1,0 Max Temperature (K)
mint 1 16,1,0 Min Temperature (K)
endvars
