DSET ^pct_time_raining_2.5deg_%y4%m2
UNDEF -9999.0
TITLE % time raining
*
OPTIONS template big_endian
*
XDEF 144 LINEAR 1.25 2.5
*
YDEF 32 LINEAR -38.75 2.5
ZDEF 01 LEVELS 1
TDEF 99 LINEAR feb1997 1mo
VARS 1
pct 1 0 % time raining
ENDVARS
