DSET ^C2_Hurricane.Ida_0.05deg-30min_%y4%m2%d2%h2%n2.RT.nc
DTYPE netcdf
TITLE CMORPH-2 Precip Rate & Fraction of Frozen Precip
OPTIONS template
UNDEF -999
XDEF 1000 LINEAR 255.025 0.05
YDEF 600 LINEAR 15.025 0.05
ZDEF 1 LEVELS 1
TDEF 480 LINEAR 00:00Z26Aug2021 30mn
VARS 2
cmorph 1 t,y,x CMORPH-2 Precip Rate (mm/hr) [scaled by 0.01]
frac 1 t,y,x Fraction of Frozen Precip (%) [scaled by 0.01]
ENDVARS
