dset ^CPC_GLOBAL_T_V0.x_0.5deg.lnx.2024
options little_endian
title global daily analysis (grid box mean, the grid shown is the center of the grid box)
undef -999.0
xdef 720 linear 0.25 0.50
ydef 360 linear -89.75 0.50
zdef 1 linear 1 1
tdef 366 linear 01jan2024 1dy
vars 4
tmax 1 00 daily maximum temperature (C)
nmax 1 00 number of reports for maximum temperature (C)
tmin 1 00 daily minimum temperature (C)
nmin 1 00 number of reports for minimum temperature (C)
ENDVARS
