DSET ^../%y4/%y4%m2/%y4%m2%d2/CMORPH2x_ADJ_0.05deg-30min_US.lnx.%y4%m2%d2%h2%n2.NRT
*
OPTIONS template
*
UNDEF -999.0
*
TITLE NRT MWCOMB2x
*
XDEF 1400 LINEAR 230.025 0.05
*
YDEF 700 LINEAR 20.025 0.05
*
ZDEF 2 linear 1 1
*
TDEF 99999 LINEAR 00:00z1nov2017 30mn
*
VARS 1
prcp 1 99 CMORPH2x precipitation estimates (mm/hr)
ENDVARS *************************** NOTE ************************** ** Data is for the mean precip rate over a 30-min period ** in mm/hr === so a number of 10.0 means ** total precip amount over the 30-min period is 5.0 mm ** ** Precip rate stamped for 00:00Z1Jan2018 is for a 30-min ** period from 00:00UTC to 00:30UTC of 1 Jan., 2018 ** ***************************************************************
