DSET ^v.monthly.%y4.gr
options template big_endian
undef -9999. missing_value
title OSCAR current
xdef 360 linear 0.5 1.
ydef 140 linear -69.5 1.
zdef 1 levels 15 1
tdef 330 linear jan1992 1mo
vars 1
v 0 99 OSCAR cm/s
endvars
