DSET ^gpcp_pen_rt.lnx.2009
*
UNDEF -999.0
*
TITLE Real-Time Pentad GPCP
*
OPTIONS little_endian 365_day_calendar template
*
XDEF 144 LINEAR 1.25 2.5
*
YDEF 72 LINEAR -88.75 2.5
*
ZDEF 02 LEVELS 1 2
*
TDEF 72 LINEAR 3JAN2008 5dy
*
VARS 2
totl 1 99 ch01 total precipitation (mm/day)
anom 1 99 ch02 anomaly (mm/day)
ENDVARS
