dset ^../%y4/PRCP_CU_GAUGE_V1.0GLB_0.25deg_adj.lnx.%y4%m2%d2.RT
options little_endian template
title global daily analysis
undef -999.0
xdef 1440 linear 0.125 0.25
ydef 720 linear -89.875 0.25
zdef 1 linear 1 1
tdef 9999 linear 01JAN2015 1dy
vars 2
rain 1 00 the grid analysis (0.1mm/day)
nstn 1 00 the number gauges
endvars
