DSET ^../%y4/%y4%m2/CPC_GLB_T2m_HLY_V1.0_0.05deg_BOX.lnx.%y4%m2%d2%h2
OPTIONS little_endian template
UNDEF -999.0
TITLE CFSR TMP2m down-scaled, bias-corrected, diurnal-amplitude adjusted
XDEF 7200 linear 0.025 0.05
YDEF 3600 linear -89.975 0.05
ZDEF 1 levels 1
TDEF 99999 linear 00z01Jan2017 1hr
VARS 1
t2m 1 99 TMP2m (Kelvin)
ENDVARS
