DSET ../%y4/%y4%m2/CMORPH_V1.0BETA_BLD_0.25deg-DLY_EOD_%y4%m2%d2
*
OPTIONS template little_endian
*
UNDEF -999.0
*
TITLE gauge - CMORPH_Adj Blended Analysis of daily precipitation
*
XDEF 1440 LINEAR 0.125 0.25
*
YDEF 720 LINEAR -89.875 0.25
*
ZDEF 01 LEVELS 1
*
TDEF 6000 LINEAR 01jan1998 1dy
*
VARS 1
bld 1 99 blended daily precip (mm) ending at EOD
ENDVARS ****************************************************** ** NOTE ** ** definition of a day differs from country to country. ** the ending hour of a day for each 0.25deg grid box ** is listed in a mask file called: ** 'PRCP_CU_GAUGE_V1.0GLB_0.25deg_EOD.lnx' stored in the ** sub-directory MASK ** ******************************************************
