DSET ^../RAW/8km-30min/%y4/%y4%m2/CMORPH_V0.x_RAW_8km-30min_%y4%m2%d2%h2
OPTIONS template little_endian
UNDEF -999.0
TITLE Precipitation estimates
XDEF 4948 LINEAR 0.036378335 0.072756669
YDEF 1649 LINEAR -59.963614 0.072771377
ZDEF 01 LEVELS 1
TDEF 9999 LINEAR 00z01jan2005 30mn
VARS 1
cmorph 1 99 hourly cmorph [ mm/hr ]
ENDVARS
