DSET ^../RAW/0.25deg-DLY_00Z/%y4/%y4%m2/CMORPH_V0.x_RAW_0.25deg-DLY_00Z_%y4%m2%d2
TITLE CMORPH Version 1.0BETA Version, daily precip from 00Z-24Z
OPTIONS template little_endian
UNDEF -999.0
XDEF 1440 LINEAR 0.125 0.25
YDEF 480 LINEAR -59.875 0.25
ZDEF 01 LEVELS 1
TDEF 99999 LINEAR 01jan1998 1dy
VARS 1
cmorph 1 99 yyyyy CMORPH Version 1.o daily precipitation (mm)
ENDVARS
