DSET ^../%y4/%y4%m2/CMORPH_V0.x_RT_8km-30min_%y4%m2%d2%h2.YMC
OPTIONS little_endian template
UNDEF -999.0
TITLE CMORPH Rain Rate (Real-Time Version) at YMC Domain (15S-15N, 80E-160E)
XDEF 1101 LINEAR 79.995957565 0.072756669
YDEF 413 LINEAR -14.990903944 0.072771376
ZDEF 1 LEVELS 1
TDEF 99999 LINEAR 00:00z01Jan2017 30mn
VARS 1
cmorph 1 99 CMORPH Rain Rate [mm/hr]
ENDVARS
