DSET ^../%y4/%y4%m2/CMORPH_V0.x_BLD_0.25deg-DLY_EOD_%y4%m2%d2
OPTIONS template little_endian
UNDEF -999.0
TITLE Gauge - CMORPH_Adj Blended Analysis
XDEF 1440 LINEAR 0.125 0.25
YDEF 720 LINEAR -89.875 0.25
ZDEF 1 LEVELS 1
TDEF 9999 LINEAR 01Dec2016 1dy
VARS 1
bld 1 99 blended daily precip (mm) ending at GTS gauge EOD
ENDVARS
