dset ^../%y4/CBO_V1_2.5deg-PEN_Yearly.lnx.%y4
options template little_endian 365_day_calendar
undef -999.0
title CPC-Blended-OLR (CBO) V1 Pentad Data in 2.5deg-grid
xdef 144 linear 0.0 2.5
ydef 73 linear -90.0 2.5
zdef 1 levels 1
tdef 2445 linear 05Jan1991 5dy
************************************
* NOTE: timestamp is end-of-pentad
*
************************************
vars 2
olr 1 99 OLR total (W/m^2)
anom 1 99 OLR anomaly (W/m^2)
endvars *********************************************************************** * NOTES * *---------------------------------------------------------------------* * 1. Data files of 1991.01.05[P01]~2023.05.15[P27] are Final version. * * 2. Data files of 2023.05.20[P28]~2024.06.29[P36] are NRT version. * ***********************************************************************
