dset ^../%y4/CBO_V1_2.5deg-MON.lnx.%y4%m2
options template little_endian
undef -999.0
title CPC-Blended-OLR (CBO) V1 Monthly Data in 2.5deg-grid
xdef 144 linear 0.0 2.5
ydef 73 linear -90.0 2.5
zdef 1 levels 1
tdef 401 linear 01Jan1991 1mo
vars 2
olr 1 99 OLR total (W/m^2)
anom 1 99 OLR anomaly (W/m^2)
endvars ******************************************************* * NOTES * *-----------------------------------------------------* * 1. Data files of 1991.01~2023.04 are Final version. * * 2. Data files of 2023.05~2024.05 are NRT version. * *******************************************************
