DSET ^CBO_V1_2.5deg-MON_CLIM_1991-2020.lnx
*
OPTIONS little_endian
*
TITLE CPC Blended OLR Monthly Climatology (1991-2020)
*
UNDEF -999.0
*
XDEF 144 LINEAR 0.0 2.5
YDEF 73 LINEAR -90.0 2.5
ZDEF 1 LEVELS 1
TDEF 12 LINEAR Jan1991 1mo
VARS 1
olr 1 99 climo (W/m^2)
ENDVARS *** annual mean + summation of first 6 harmonics
