dset ^../%y4/CBO_V1_1deg-WKLY.lnx.%y4%m2%d2
options template little_endian
undef -999.0
title CPC-Blended-OLR (CBO) V1 Weekly (Monday-Sunday) Data in 1deg-grid
xdef 360 linear 0.5 1.0
ydef 180 linear -89.5 1.0
zdef 1 levels 1
tdef 1750 linear 06Jan1991 7dy
**********************************
* NOTE: timestamp is end-of-week
*
**********************************
vars 2
olr 1 99 OLR total (W/m^2)
anom 1 99 OLR anomaly (W/m^2)
endvars ************************************************************* * NOTES * *-----------------------------------------------------------* * 1. Data files of 1991.01.06~2023.05.14 are Final version. * * 2. Data files of 2023.05.21~2024.07.14 are NRT version. * *************************************************************
