DSET ^CBO_V1_1deg-WKLY_CLIM_1991-2020_366.lnx
*
OPTIONS little_endian
*
TITLE CPC Blended OLR Weekly Climatology (1991-2020)
*
UNDEF -999.0
*
XDEF 360 LINEAR 0.5 1.0
YDEF 180 LINEAR -89.5 1.0
ZDEF 1 LEVELS 1
TDEF 366 LINEAR 01Jan1992 1dy
VARS 1
olr 1 99 weekly climo for a 7-day period ending on the stampled date (W/m^2)
ENDVARS *** annual mean + summation of first 6 harmonics *** for a leap year use (366-day year)
